BEGIN:VCALENDAR
VERSION:2.0
PRODID:icalendar-ruby
CALSCALE:GREGORIAN
METHOD:PUBLISH
BEGIN:VEVENT
DTSTAMP:20260421T171540Z
UID:26-566949@tisdalechurch.org
DTSTART:20260817T230000Z
DTEND:20260818T010000Z
CLASS:PUBLIC
CREATED:20260223T195449
DESCRIPTION:Tisdale Methodist Women meet on the third Monday of the month a
 t 6:00 pm for Bible study\, snacks\, and a short business meeting.  This 
 year\, we are studying "Twelve Women of the Bible."  Each lesson stands a
 lone so no worries if you miss one.  All women of the church are invited 
 to participate.  \nBeginning January 2026\, a daytime women's group will
  meet at 2:00 pm.  Shared snacks\,  study\, prayer\, and a short busines
 s meeting\, if needed.  
LAST-MODIFIED:20260223T195449
LOCATION:Apostles Hall
SUMMARY:Tisdale Methodist Women Group Meeting
URL;VALUE=URI:https://tisdalechurch.org/events/tisdale-methodist-women-grou
 p-meeting/2026-08-17
ATTACH;FILENAME=Women-group.png;FMTTYPE=image/png:https://dq5pwpg1q8ru0.clo
 udfront.net/2024/01/11/19/45/15/1ae66e84-de23-41b4-a616-67368804e8a2/Women
 -group.png
END:VEVENT
END:VCALENDAR
